BEGIN:VCALENDAR
VERSION:2.0
PRODID:-//PYVOBJECT//NONSGML Version 0.9.9//EN
X-WR-TIMEZONE:Africa/Johannesburg
BEGIN:VTIMEZONE
TZID:Africa/Johannesburg
BEGIN:STANDARD
DTSTART:20000101T000000
RRULE:FREQ=YEARLY;BYMONTH=1
TZNAME:SAST
TZOFFSETFROM:+0200
TZOFFSETTO:+0200
END:STANDARD
END:VTIMEZONE
BEGIN:VEVENT
UID:20260423T124013Z - 48597@eos-content
DTSTART;TZID=Africa/Johannesburg:20260425T140000
DTEND;TZID=Africa/Johannesburg:20260425T170000
ATTENDEE:MAILTO:braam@vd5properties.co.za
ATTENDEE:MAILTO:jan@vd5properties.co.za
DESCRIPTION:https://www.vd5properties.co.za/results/residential/for-sale/pr
 etoria/montana/townhouse/3147095/\n\nOnly by appointment\n\nCall Jan for a
  viewing\n\nBraam Korb (82 979 0257)\n\nJan Pretorius (0615859457)
DTSTAMP:20260423T124013Z
LOCATION:Montana\, Pretoria
SUMMARY:VD5 Properties Show Day - VDR982
END:VEVENT
END:VCALENDAR
